BEGIN:VCALENDAR
VERSION:2.0
PRODID:-//Barker-Hammer - ECPv6.15.17.1//NONSGML v1.0//EN
CALSCALE:GREGORIAN
METHOD:PUBLISH
X-ORIGINAL-URL:https://www.barker-hammer.com
X-WR-CALDESC:Events for Barker-Hammer
REFRESH-INTERVAL;VALUE=DURATION:PT1H
X-Robots-Tag:noindex
X-PUBLISHED-TTL:PT1H
BEGIN:VTIMEZONE
TZID:America/Chicago
BEGIN:DAYLIGHT
TZOFFSETFROM:-0600
TZOFFSETTO:-0500
TZNAME:CDT
DTSTART:20250309T080000
END:DAYLIGHT
BEGIN:STANDARD
TZOFFSETFROM:-0500
TZOFFSETTO:-0600
TZNAME:CST
DTSTART:20251102T070000
END:STANDARD
BEGIN:DAYLIGHT
TZOFFSETFROM:-0600
TZOFFSETTO:-0500
TZNAME:CDT
DTSTART:20260308T080000
END:DAYLIGHT
BEGIN:STANDARD
TZOFFSETFROM:-0500
TZOFFSETTO:-0600
TZNAME:CST
DTSTART:20261101T070000
END:STANDARD
BEGIN:DAYLIGHT
TZOFFSETFROM:-0600
TZOFFSETTO:-0500
TZNAME:CDT
DTSTART:20270314T080000
END:DAYLIGHT
BEGIN:STANDARD
TZOFFSETFROM:-0500
TZOFFSETTO:-0600
TZNAME:CST
DTSTART:20271107T070000
END:STANDARD
END:VTIMEZONE
BEGIN:VEVENT
DTSTART;TZID=America/Chicago:20260915T080000
DTEND;TZID=America/Chicago:20260916T163000
DTSTAMP:20260419T160223
CREATED:20250723T180829Z
LAST-MODIFIED:20250723T180829Z
UID:22418-1789459200-1789576200@www.barker-hammer.com
SUMMARY:IICRC Trauma & Crime Scene Restoration (TCST) with Bloodborne Pathogens
DESCRIPTION:IICRC Trauma and Crime Scene Restoration Technician (TSCT) with Bloodborne Pathogens\n8am-4:30pm Daily\nThe Trauma and Crime Scene Technician (TCST) provides specific information for the proper maintenance and cleaning of trauma and crime scenes. Decontaminating specialist emphasis is placed on health and safety requirements. Including the hands-on donning and doffing of PPE and creating a hazard assessment of the area\, structural remediation; cleaning and demoing\, contents remediation containing cleaning and disposal\, and the cleaning and disposal of vehicles and industrial machinery including lockout\, tagout\, and working with industrial site officers. Cleaning and demo equipment will be discussed along with the laws regarding hazardous waste\, transport\, storage\, and disposal. \nThis is a 2-day course \nThe exam fee is $80.00 and is a separate charge paid to the IICRC. \nNote: Bloodborne Pathogens has been incorporated into this seminar at no extra cost. You can receive 2 certifications for this class. The Bloodborne Pathogens Certification is good for 1 year.  \nSeptember 15 & 16\, 2026\nInstructor: Randy Pierce\n8:00 AM – 4:30 PM\nPre-Registration – $385 if paid by 09/01/2026\nRegistration – $425 \nIICRC Certification Tracks to Take \nCancellation Policy: In the event of a cancellation\, a 14-day notice is required. Students that cancel 14-days prior to class have the option for someone to come in their place\, transfer to another class (in the same calendar year) of equal or lesser value or receive a 50% credit. \nThe definition of a “no-call\, no-show” is someone who does not communicate their absence within 2 hours of class. There are no transfers or refunds for no-call\, no-shows. \nIf a student registered for class can no longer attend class and you want to send someone in their place\, a 3-day notice is required. \nTraveling and need a hotel? View Local Hotels & Rates \nRegister Online Now\n#IICRCCertification #Trauma&CrimeSceneRestoration #BloodbornePathogens #CrimeSceneCleanup #IICRC #CrimeSceneRestoration #TraumaRestoration
URL:https://www.barker-hammer.com/class/iicrc-trauma-crime-scene-restoration-tcst-with-bloodborne-pathogens/
LOCATION:Barker Hammer\, 4565 W 77th Street\, Edina\, MN\, 55435\, United States
CATEGORIES:IICRC Course
ATTACH;FMTTYPE=image/jpeg:https://www.barker-hammer.com/wp-content/uploads/2019/05/Trauma-Class-20220304-BKHd-scaled.jpg
END:VEVENT
BEGIN:VEVENT
DTSTART;TZID=America/Chicago:20260917T080000
DTEND;TZID=America/Chicago:20260918T163000
DTSTAMP:20260419T160223
CREATED:20190328T202738Z
LAST-MODIFIED:20250723T181056Z
UID:14806-1789632000-1789749000@www.barker-hammer.com
SUMMARY:IICRC Upholstery & Fabric Cleaning Technician (UFT)
DESCRIPTION:IICRC Upholstery & Fabric Cleaning Technician (UFT)\n8am-4:30pm Daily\nThe Upholstery and Fabric Cleaning Technician (UFT) course covers upholstery fiber categories\, fiber identification\, and testing\, manufacturing of the fiber and fabric\, the chemistry of cleaning\, upholstery cleaning methods\, protections\, spotting\, and potential problems. A student will have specific knowledge about fabric and fiber content\, as well as furniture construction. This enables students to identify limitations and potential cleaning-related problems\, on a given piece of upholstery. \nSeptember 17 & 18\, 2026\nInstructor: Randy Pierce\n8:00 AM – 4:30 PM\nPre-Registration – $325 if paid by 09/01/2026\nRegistration – $375\nReceive 14 IICRC Continuing Education Credits.\nThe exam fee is $80.00\, due at the time of the exam\, and is paid directly to the IICRC. \nCancellation Policy: In the event of a cancellation\, a 14-day notice is required. Students that cancel 14-days prior to class have the option for someone to come in their place\, transfer to another class (in the same calendar year) of equal or lesser value or receive a 50% credit. \nThe definition of a “no-call\, no-show” is someone who does not communicate their absence within 2 hours of class. There are no transfers or refunds for no-call\, no-shows. \nIf a student registered for class can no longer attend class and you want to send someone in their place\, a 3-day notice is required. \nTraveling and need a hotel? View Local Hotels & Rates \nRegister Online Now\n#IICRCUpholsteryCleaningClass #UpholsteryCleaningClass #IICRCCertification #UpholsteryCleaning #FabricCleaningClass #FabricCleaning
URL:https://www.barker-hammer.com/class/upholstery-cleaning-seminar/
LOCATION:Barker Hammer\, 4565 W 77th Street\, Edina\, MN\, 55435\, United States
CATEGORIES:IICRC Course
ATTACH;FMTTYPE=image/jpeg:https://www.barker-hammer.com/wp-content/uploads/2019/03/upholstery-cleaning.jpg
END:VEVENT
BEGIN:VEVENT
DTSTART;TZID=America/Chicago:20260924T080000
DTEND;TZID=America/Chicago:20260925T163000
DTSTAMP:20260419T160223
CREATED:20250723T182500Z
LAST-MODIFIED:20250723T182500Z
UID:22428-1790236800-1790353800@www.barker-hammer.com
SUMMARY:IICRC Floor Care Technician (FCT) Seminar
DESCRIPTION:IICRC Floor Care Technician (FCT) Course\n8am-4:30pm Daily\nThe Floor Care Technician course is a two-day class designed to give you the knowledge and skills needed to perform hard floor care. The class includes a definition of floor covering types\, to include: \n\nResilient (LVT\, VCT\, Sheet vinyl\, rubber\, linoleum\, VAT & others).\nNatural stone floors (marble\, limestone\, granite\, slate & others).\nCeramic\, porcelain\, quarry tile\, saltillo\, terra-cotta\, terrazzo\, concrete\, and more.\nAlso included is a handful of specialty floors such as: ESD\, glass\, metal and others.\n\nAttendees will also learn about the equipment\, supplies\, methods\, techniques\, and cleaning procedures related to each of these floor coverings. It is taught in an energetic\, humorous\, and easy to comprehend style that the students enjoy. \nLearn about: \n\nThe floor care industry.\nThe importance of cleaning for health\, safety\, and appearance.\nThe knowledge\, skills and attitude needed to be successful.\nThe science of cleaning – the detergency process.\nThe equipment.\nMaterials and supplies used to perform hard surface floor care.\nHow to perform the procedures safely\, efficiently\, and effectively.\n\nSeptember 24 & 25\, 2026\nInstructor: Bob Merkt\nPre-Registration – $349 if paid by 09/10/2026\nRegistration – $379\nReceive 14 IICRC Continuing Education Credit (CECs)\nThe exam fee is $80.00 and is a separate charge paid to the IICRC. \nCancellation Policy: In the event of a cancellation\, a 14-day notice is required. Students that cancel 14-days prior to class have the option for someone to come in their place\, transfer to another class (in the same calendar year) of equal or lesser value or receive a 50% credit. \nThe definition of a “no-call\, no-show” is someone who does not communicate their absence within 2 hours of class. There are no transfers or refunds for no-call\, no-shows. \nIf a student registered for class can no longer attend class and you want to send someone in their place\, a 3-day notice is required. \nTraveling and need a hotel? View Local Hotels & Rates \nIICRC Certification Tracks to Take \nRegister Online Now\n#IICRCFloorCare #FloorCareTechnician #HardSurfaceCleaning #IICRCCertification #BobMerkt #TileCleaning #NaturalStoneCleaning
URL:https://www.barker-hammer.com/class/iicrc-floor-care-technician-fct-seminar-2/
LOCATION:Barker Hammer\, 4565 W 77th Street\, Edina\, MN\, 55435\, United States
CATEGORIES:IICRC Course
ATTACH;FMTTYPE=image/jpeg:https://www.barker-hammer.com/wp-content/uploads/2018/11/Hardsurface-cleaning-seminar-IICRC-scaled.jpg
END:VEVENT
END:VCALENDAR