BEGIN:VCALENDAR
VERSION:2.0
PRODID:-//Barker-Hammer - ECPv6.15.17.1//NONSGML v1.0//EN
CALSCALE:GREGORIAN
METHOD:PUBLISH
X-ORIGINAL-URL:https://www.barker-hammer.com
X-WR-CALDESC:Events for Barker-Hammer
REFRESH-INTERVAL;VALUE=DURATION:PT1H
X-Robots-Tag:noindex
X-PUBLISHED-TTL:PT1H
BEGIN:VTIMEZONE
TZID:America/Chicago
BEGIN:DAYLIGHT
TZOFFSETFROM:-0600
TZOFFSETTO:-0500
TZNAME:CDT
DTSTART:20250309T080000
END:DAYLIGHT
BEGIN:STANDARD
TZOFFSETFROM:-0500
TZOFFSETTO:-0600
TZNAME:CST
DTSTART:20251102T070000
END:STANDARD
BEGIN:DAYLIGHT
TZOFFSETFROM:-0600
TZOFFSETTO:-0500
TZNAME:CDT
DTSTART:20260308T080000
END:DAYLIGHT
BEGIN:STANDARD
TZOFFSETFROM:-0500
TZOFFSETTO:-0600
TZNAME:CST
DTSTART:20261101T070000
END:STANDARD
BEGIN:DAYLIGHT
TZOFFSETFROM:-0600
TZOFFSETTO:-0500
TZNAME:CDT
DTSTART:20270314T080000
END:DAYLIGHT
BEGIN:STANDARD
TZOFFSETFROM:-0500
TZOFFSETTO:-0600
TZNAME:CST
DTSTART:20271107T070000
END:STANDARD
END:VTIMEZONE
BEGIN:VEVENT
DTSTART;TZID=America/Chicago:20261007T080000
DTEND;TZID=America/Chicago:20261009T163000
DTSTAMP:20260419T224127
CREATED:20230412T183726Z
LAST-MODIFIED:20260311T194218Z
UID:19876-1791360000-1791563400@www.barker-hammer.com
SUMMARY:IICRC Water Restoration Technician (WRT) Seminar - Hybrid
DESCRIPTION:IICRC Water Restoration Technician (WRT) Seminar – Hybrid\n*In Person or Live Stream* \nOctober 7 – 9\, 2026\nInstructor: Craig Jasper\n8:00 AM – 4:30 PM\nPre-Registration – $450 if paid by 09/21/2026\nRegistration – $500\nReceive 14 IICRC Continuing Education Credits.\nThe exam fee is $80.00 and is paid to the IICRC on the day of testing. \n*Limited to 20 Students In-Person* \nThe Water Damage Restoration Technician course is designed to teach restoration personnel that performs remediation work to give them a better concept of water damage\, its effects\, and techniques for drying of structures. This course will give residential and commercial maintenance personnel the background to understand the procedures necessary to deal with water losses\, sewer back-flows\, and contamination such as mold. (3-day course; 19 hours\, not including exam time\, lunch\, and breaks.) \n• Extraction: Preventing Damage\, Protecting the Carpet\, Equipment & Techniques.\n• Emergency Response\n• Preparation Before Responding\n• Antimicrobials and Biocides\n• Detailed Inspection: Methods\, Monitoring & Metering Tools\n• Increasing the Rate of Evaporation:\n• Psychometric Chart\, Air & Material Interactions\, and Managing Vapor Pressure\n• Evaluating Dehumidifier Performance with Grain Pressure\n• Pressurization\n• Drying Material Types and Procedures\n• Equipment Setup: Rate of Evaporation\, Electricity\, Managing Heat\n• Daily Procedures: Monitoring\, Documentation\, Successful Decisions\, and Microbiology. \nCancellation Policy: In the event of a cancellation\, a 14-day notice is required. Students that cancel 14-days prior to class have the option for someone to come in their place\, transfer to another class (in the same calendar year) of equal or lesser value or receive a 50% credit. \nThe definition of a “no-call\, no-show” is someone who does not communicate their absence within 2 hours of class. There are no transfers or refunds for no-call\, no-shows. \nIf a student registered for class can no longer attend class and you want to send someone in their place\, a 3-day notice is required. If the new student can no longer attend\, this is considered a no-call\, no-show. \nBecome a Master! IICRC Master Tracks \nTraveling and need a hotel? View Local Hotels & Rates \nRegister Online Now\n#IICRCWaterRestoration #WaterRestoration #IICRCCertification #WaterDamageRestoration #Flooding #WaterRemediation #WaterDamageClass
URL:https://www.barker-hammer.com/class/iicrc-water-restoration-wrt-4/
LOCATION:Barker Hammer\, 4565 W 77th Street\, Edina\, MN\, 55435\, United States
CATEGORIES:IICRC Course
ATTACH;FMTTYPE=image/jpeg:https://www.barker-hammer.com/wp-content/uploads/2019/05/IICRC-Water-Retoartion-RSA-bhk.jpg
END:VEVENT
END:VCALENDAR