BEGIN:VCALENDAR
VERSION:2.0
PRODID:-//Barker-Hammer - ECPv6.15.17.1//NONSGML v1.0//EN
CALSCALE:GREGORIAN
METHOD:PUBLISH
X-WR-CALNAME:Barker-Hammer
X-ORIGINAL-URL:https://www.barker-hammer.com
X-WR-CALDESC:Events for Barker-Hammer
REFRESH-INTERVAL;VALUE=DURATION:PT1H
X-Robots-Tag:noindex
X-PUBLISHED-TTL:PT1H
BEGIN:VTIMEZONE
TZID:America/Chicago
BEGIN:DAYLIGHT
TZOFFSETFROM:-0600
TZOFFSETTO:-0500
TZNAME:CDT
DTSTART:20250309T080000
END:DAYLIGHT
BEGIN:STANDARD
TZOFFSETFROM:-0500
TZOFFSETTO:-0600
TZNAME:CST
DTSTART:20251102T070000
END:STANDARD
BEGIN:DAYLIGHT
TZOFFSETFROM:-0600
TZOFFSETTO:-0500
TZNAME:CDT
DTSTART:20260308T080000
END:DAYLIGHT
BEGIN:STANDARD
TZOFFSETFROM:-0500
TZOFFSETTO:-0600
TZNAME:CST
DTSTART:20261101T070000
END:STANDARD
BEGIN:DAYLIGHT
TZOFFSETFROM:-0600
TZOFFSETTO:-0500
TZNAME:CDT
DTSTART:20270314T080000
END:DAYLIGHT
BEGIN:STANDARD
TZOFFSETFROM:-0500
TZOFFSETTO:-0600
TZNAME:CST
DTSTART:20271107T070000
END:STANDARD
END:VTIMEZONE
BEGIN:VEVENT
DTSTART;TZID=America/Chicago:20261023T080000
DTEND;TZID=America/Chicago:20261023T163000
DTSTAMP:20260419T210536
CREATED:20230412T162828Z
LAST-MODIFIED:20260331T191531Z
UID:19872-1792742400-1792773000@www.barker-hammer.com
SUMMARY:IICRC Odor Control Technician (OCT) Seminar - Hybrid
DESCRIPTION: IICRC Odor Control Technician (OCT) Seminar – Hybrid\n*In Person or Live Stream* \nThe Odor Control Technicians course covers olfaction and odor\, odor sources\, detection process\, theory of odor control\, equipment\, chemical options\, and applications. The student will learn how to address odors caused by biological sources such as decomposition\, urine contamination and mold combustion sources such as fire and smoke damage\, and chemical sources such as fuel oils spill and volatile organic chemicals. \nOctober 23\, 2026\nInstructor: Craig Jasper\n8:00 AM – 4:30 PM\nPre-Registration – $205 if paid by 10/07/2026\nRegistration – $255\nReceive 7 IICRC Continuing Education Credits\nThe exam fee is $80 and is due to the IICRC at the time of testing. \n*Limited to 20 students in-person* \nCancellation Policy: In the event of a cancellation\, a 14-day notice is required. Students that cancel 14-days prior to class have the option for someone to come in their place\, transfer to another class (in the same calendar year) of equal or lesser value or receive a 50% credit. \nThe definition of a “no-call\, no-show” is someone who does not communicate their absence within 2 hours of class. There are no transfers or refunds for no-call\, no-shows. \nIf a student registered for class can no longer attend class and you want to send someone in their place\, a 3-day notice is required. \nBecome a Master! IICRC Master Tracks \nTraveling and need a hotel? View Local Hotels & Rates \nRegister Online Now\n#OdorControl #IICRCOdorControlClass #IICRCCertification #Malodors #SmokeOdors #OdorRemoval
URL:https://www.barker-hammer.com/class/iicrc-odor-control-oct-2/
LOCATION:Barker Hammer\, 4565 W 77th Street\, Edina\, MN\, 55435\, United States
CATEGORIES:IICRC Course
ATTACH;FMTTYPE=image/jpeg:https://www.barker-hammer.com/wp-content/uploads/2019/03/WRT_Class_102122_01.10.23BKH.jpg
END:VEVENT
END:VCALENDAR