BEGIN:VCALENDAR
VERSION:2.0
PRODID:-//Barker-Hammer - ECPv6.15.17.1//NONSGML v1.0//EN
CALSCALE:GREGORIAN
METHOD:PUBLISH
X-WR-CALNAME:Barker-Hammer
X-ORIGINAL-URL:https://www.barker-hammer.com
X-WR-CALDESC:Events for Barker-Hammer
REFRESH-INTERVAL;VALUE=DURATION:PT1H
X-Robots-Tag:noindex
X-PUBLISHED-TTL:PT1H
BEGIN:VTIMEZONE
TZID:America/Chicago
BEGIN:DAYLIGHT
TZOFFSETFROM:-0600
TZOFFSETTO:-0500
TZNAME:CDT
DTSTART:20250309T080000
END:DAYLIGHT
BEGIN:STANDARD
TZOFFSETFROM:-0500
TZOFFSETTO:-0600
TZNAME:CST
DTSTART:20251102T070000
END:STANDARD
BEGIN:DAYLIGHT
TZOFFSETFROM:-0600
TZOFFSETTO:-0500
TZNAME:CDT
DTSTART:20260308T080000
END:DAYLIGHT
BEGIN:STANDARD
TZOFFSETFROM:-0500
TZOFFSETTO:-0600
TZNAME:CST
DTSTART:20261101T070000
END:STANDARD
BEGIN:DAYLIGHT
TZOFFSETFROM:-0600
TZOFFSETTO:-0500
TZNAME:CDT
DTSTART:20270314T080000
END:DAYLIGHT
BEGIN:STANDARD
TZOFFSETFROM:-0500
TZOFFSETTO:-0600
TZNAME:CST
DTSTART:20271107T070000
END:STANDARD
END:VTIMEZONE
BEGIN:VEVENT
DTSTART;TZID=America/Chicago:20260211T080000
DTEND;TZID=America/Chicago:20260212T163000
DTSTAMP:20260419T215557
CREATED:20200707T203233Z
LAST-MODIFIED:20260129T142621Z
UID:16783-1770796800-1770913800@www.barker-hammer.com
SUMMARY:IICRC Stone\, Masonry\, and Tile Cleaning (SMT) Seminar - CANCELLED
DESCRIPTION:IICRC Stone\, Masonry and Tile Cleaning (SMT) Seminar\n8am-4:30pm Daily – CANCELLED\nThe Stone\, Masonry and Tile Care technician course provides precise information for the proper maintenance and cleaning of natural and man-made (cultured) stone\, ceramic tile\, masonry\, and grout surfaces. Students will learn the theory behind and reasons for proper tools\, chemicals\, and equipment. Emphasis will be places on protecting surfaces\, technicians and building occupants. Students completing the course will be adamantly equipped to perform maintenance-related tasks involving stone\, masonry\, and ceramic tile surfaces. (2-day course: 14 hours\, not including exam time\, lunch\, and breaks.) \nFebruary 11  & 12\, 2026 – CANCELLED\nInstructor: Bob Merkt\nPre-Registration – $349 if paid by 01/28/2026\nRegistration – $379\nReceive 14 IICRC Continuing Education Credits\nThe exam fee is $80.00 and is a separate charge made to the IICRC. \nIICRC Certification Tracks to Take \nCancellation Policy: In the event of a cancellation\, a 14-day notice is required. Students that cancel 14-days prior to class have the option for someone to come in their place\, transfer to another class (in the same calendar year) of equal or lesser value or receive a 50% credit. \nThe definition of a “no-call\, no-show” is someone who does not communicate their absence within 2 hours of class. There are no transfers or refunds for no-call\, no-shows. \nIf a student registered for class can no longer attend class and you want to send someone in their place\, a 3-day notice is required. \nTraveling and need a hotel? View Local Hotels & Rates \nRegister Online Now\n#IICRCStoneMasonryandTileCleaningClass #StoneCleaning #MasonryCleaning #TileCleaning #IICRCCertification #NaturalStone #StoneMasonryandTileCleaningClass #TileCleaningTechniques #StoneCleaningTechniques
URL:https://www.barker-hammer.com/class/stone-masonry-and-tile-cleaning/
LOCATION:Barker Hammer\, 4565 W 77th Street\, Edina\, MN\, 55435\, United States
CATEGORIES:IICRC Course
ATTACH;FMTTYPE=image/jpeg:https://www.barker-hammer.com/wp-content/uploads/2021/08/Hardsurface-cleaning-seminar-IICRC-scaled.jpg
END:VEVENT
END:VCALENDAR